BEGIN:VCALENDAR
VERSION:2.0
PRODID:-//The Boston Soul Revue - ECPv4.6.19//NONSGML v1.0//EN
CALSCALE:GREGORIAN
METHOD:PUBLISH
X-WR-CALNAME:The Boston Soul Revue
X-ORIGINAL-URL:http://bostonsoulrevue.com
X-WR-CALDESC:Events for The Boston Soul Revue
BEGIN:VEVENT
DTSTART;TZID=UTC+0:20190201T213000
DTEND;TZID=UTC+0:20190201T213000
DTSTAMP:20260425T161425
CREATED:20190201T011900Z
LAST-MODIFIED:20190201T011900Z
UID:3504-1549056600-1549056600@bostonsoulrevue.com
SUMMARY:Cantab Lounge
DESCRIPTION:The Boston Soul Revue is at the Cantab Lounge\, Central Sq\, Cambridge\, the first and third Friday of every month. Showtime 9:30 pm. \n
URL:http://bostonsoulrevue.com/event/cantab-lounge-6/
LOCATION:738 Mass Ave\, Cambridge
END:VEVENT
END:VCALENDAR