BEGIN:VCALENDAR
VERSION:2.0
PRODID:-//The Boston Soul Revue - ECPv4.6.19//NONSGML v1.0//EN
CALSCALE:GREGORIAN
METHOD:PUBLISH
X-WR-CALNAME:The Boston Soul Revue
X-ORIGINAL-URL:http://bostonsoulrevue.com
X-WR-CALDESC:Events for The Boston Soul Revue
BEGIN:VEVENT
DTSTART;TZID=UTC+0:20180921T213000
DTEND;TZID=UTC+0:20180921T213000
DTSTAMP:20260426T035402
CREATED:20180623T203313Z
LAST-MODIFIED:20180623T203313Z
UID:2460-1537565400-1537565400@bostonsoulrevue.com
SUMMARY:Cantab
DESCRIPTION:\n\n\nJoin us on the first and third Friday of every month at the world famous Cantab Lounge\, Boston Magazine’s Best Dive Bar!\nWe perform with a 6 piece version of our usual 7 or 8 piece lineup\, but the level of fun is 100%! \n\n\n
URL:http://bostonsoulrevue.com/event/cantab-12/
END:VEVENT
END:VCALENDAR